BEGIN:VCALENDAR
PRODID:-//eluceo/ical//2.0/EN
VERSION:2.0
CALSCALE:GREGORIAN
BEGIN:VEVENT
UID:0de34d7c0a5c942378bc1260b5911c64
DTSTAMP:20260422T222926Z
SUMMARY:NO Shabbat Service at TAY
DESCRIPTION:Jewish Federation of New Hampshire\nCommunity Calendar\nhttps:/
 /jewishnh.org/community-calendar/no-shabbat-service-at-tay-1570193205\n\nW
 e will join Temple Israel in Manchester at their location for services. Pl
 ease call Temple Israel at 622-6171 for Service time.
DTSTART;TZID=America/New_York:20191129T190000
DTEND;TZID=America/New_York:20191129T203000
END:VEVENT
END:VCALENDAR
