BEGIN:VCALENDAR
PRODID:-//eluceo/ical//2.0/EN
VERSION:2.0
CALSCALE:GREGORIAN
BEGIN:VEVENT
UID:636cc252936b0199fa454aea3eff92f1
DTSTAMP:20260422T132052Z
SUMMARY:Not Your Bubbe's Brunch
DESCRIPTION:Jewish Federation of New Hampshire\nCommunity Calendar\nhttps:/
 /jewishnh.org/community-calendar/not-your-bubbes-brunch\n\nLife\, Ladies a
 nd Laughter presents: \n\nNot Your Bubbe's Brunch! \n\nA Women's Social
  \n\nSunday\, January 29\, 11am-1pm.\n\nMingle with ladies from around th
 e state! Join us for "Speed Schmoozing" and brunch. Come enjoy this opport
 unity to build lasting relationships in a safe\, warm\, inviting environme
 nt!\n\nTickets are $18/person. Registration required by Friday\, January 
 20th.\n\nThe Currier Museum is located at 150 Ash Street\, Manchester\, NH
 .
DTSTART;TZID=America/New_York:20230129T110000
DTEND;TZID=America/New_York:20230129T130000
END:VEVENT
END:VCALENDAR
