BEGIN:VCALENDAR
PRODID:-//eluceo/ical//2.0/EN
VERSION:2.0
CALSCALE:GREGORIAN
BEGIN:VEVENT
UID:5963aad66fbb42b3d8c4b8e22aec34d0
DTSTAMP:20260423T115056Z
SUMMARY:Online Lecture: North American Jewish Literature and the Spanish Ci
 vil War
DESCRIPTION:Jewish Federation of New Hampshire\nCommunity Calendar\nhttps:/
 /jewishnh.org/community-calendar/online-lecture-north-american-jewish-lite
 rature-and-the-spanish-civil-war-1638907841\n\nNathan E. Cohen Lecture: No
 rth American Jewish Literatyre and the Spanish Civil War (on Zoom)\nProfes
 sor Emily Robins Sharpe\, Keene State University\nSunday\, December 12\, 2
 021\, 3 pm\nTo register and receive log-in information\, visit www.tinyurl
 .com/CohenLecture121221.\nFree and open to the public.
DTSTART;TZID=America/New_York:20211212T150000
DTEND;TZID=America/New_York:20211212T160000
END:VEVENT
END:VCALENDAR
