BEGIN:VCALENDAR
PRODID:-//eluceo/ical//2.0/EN
VERSION:2.0
CALSCALE:GREGORIAN
BEGIN:VEVENT
UID:7ac59a2843433181ac67959dd6650057
DTSTAMP:20260422T065846Z
SUMMARY:Opening Reception: Martyred Wooden Synagogues of Eastern Europe Exh
 ibition
DESCRIPTION:Jewish Federation of New Hampshire\nCommunity Calendar\nhttps:/
 /jewishnh.org/community-calendar/opening-reception-martyred-wooden-synagog
 ues-of-eastern-europe-exhibition-1764715464\n\nPlease join us at SNHU as w
 e celebrate the opening of a special exhibition\, curated by Professor Har
 ry Umen\, about the wooden synagogues of Eastern Europe. The opening recep
 tion will feature a short talk by Professor Umen in the gallery space\, li
 ve klezmer fiddlers\, and kosher refreshments. We hope to include members 
 of the local community at this event along with students and faculty at SN
 HU.
DTSTART;TZID=America/New_York:20260115T153000
DTEND;TZID=America/New_York:20260115T170000
END:VEVENT
END:VCALENDAR
