BEGIN:VCALENDAR
PRODID:-//eluceo/ical//2.0/EN
VERSION:2.0
CALSCALE:GREGORIAN
BEGIN:VEVENT
UID:e0011b86348405cf6a838aa12915bfc3
DTSTAMP:20260423T100733Z
SUMMARY:Opening Your Heart With Psalm 27 - A Zoom Presentation
DESCRIPTION:Jewish Federation of New Hampshire\nCommunity Calendar\nhttps:/
 /jewishnh.org/community-calendar/opening-your-heart-with-psalm-27---a-zoom
 -presentation-1658798772\n\nReading Psalm 27 is an annual practice for Jew
 s as the year ends and begins again.  As we read the fourteen verses of Ps
 alm 27\, we reflect on each relationship\, each conversation\, each choice
 .  We consider where we need to make repairs\, adjustments\, atonement\, a
 nd we continue on that meditative path as the new year begins\, through Su
 kkot.  \n"Opening Your Heart with Psalm 27" will take you on a journey of 
 reflection and help you find meaning in the turning of the Jewish year.
DTSTART;TZID=America/New_York:20220823T190000
DTEND;TZID=America/New_York:20220823T200000
END:VEVENT
END:VCALENDAR
