BEGIN:VCALENDAR
PRODID:-//eluceo/ical//2.0/EN
VERSION:2.0
CALSCALE:GREGORIAN
BEGIN:VEVENT
UID:66a5a3cd88eaa0f19d0e988e50234b7c
DTSTAMP:20260423T101440Z
SUMMARY:Ori Shamesh Photographs Virtual Exhibit
DESCRIPTION:Jewish Federation of New Hampshire\nCommunity Calendar\nhttps:/
 /jewishnh.org/community-calendar/ori-shamesh-photographs-virtual-exhibit\n
 \nMore info coming soon!
DTSTART;TZID=America/New_York:20210411T123000
DTEND;TZID=America/New_York:20210411T143000
END:VEVENT
END:VCALENDAR
