BEGIN:VCALENDAR
PRODID:-//eluceo/ical//2.0/EN
VERSION:2.0
CALSCALE:GREGORIAN
BEGIN:VEVENT
UID:b045dcf10e001512749f64024f68eae1
DTSTAMP:20260422T154727Z
SUMMARY:SNHJMC Presents Our Collective Fight Against Antisemitism
DESCRIPTION:Jewish Federation of New Hampshire\nCommunity Calendar\nhttps:/
 /jewishnh.org/community-calendar/our-collective-fight-against-antisemitism
 -1644271816\n\nPeggy Shukur\, Deputy Regional Director of ADL New England 
 will join us for an overview of antisemitic incidents in the region\, look
 ing at extremist activity and the current state of hate in New England.  H
 ate crime data\, cyber hate and hate symbols will be discussed during this
  presentation.  Additionally\, learn more about the work ADL is doing both
  locally and nationally in schools\, communities and courtrooms.  You will
  also learn how to report incidents to the ADL\, and the best strategies..
 .
DTSTART;TZID=America/New_York:20220306T093000
DTEND;TZID=America/New_York:20220306T113000
END:VEVENT
END:VCALENDAR
