BEGIN:VCALENDAR
PRODID:-//eluceo/ical//2.0/EN
VERSION:2.0
CALSCALE:GREGORIAN
BEGIN:VEVENT
UID:4ea1b76db7ac78179581dd8ca222f0d1
DTSTAMP:20260423T072101Z
SUMMARY:Our Duty to Remember... but What?
DESCRIPTION:Jewish Federation of New Hampshire\nCommunity Calendar\nhttps:/
 /jewishnh.org/community-calendar/our-duty-to-remember-but-what-1680021184\
 n\nAbout the presenter:\n\nMichael (“Mick”) came from Germany to the U
 S in 1996. A Ph.D. chemist by trade he applied scientific\, bilingual rese
 arch techniques to Martin Luther\, his times and his writings. He is the a
 uthor of a book on the German Reformation titled "Martin Luther and His Ti
 mes". He is also the author of a successful series of Group Study Guides t
 hat present key texts of the German Protestant Reformation in a format tha
 t enables religious groups to study Martin Luther “in...
DTSTART;TZID=America/New_York:20230418T163000
DTEND;TZID=America/New_York:20230418T180000
END:VEVENT
END:VCALENDAR
