BEGIN:VCALENDAR
PRODID:-//eluceo/ical//2.0/EN
VERSION:2.0
CALSCALE:GREGORIAN
BEGIN:VEVENT
UID:0e54171bbaf907030ff8d4d4ae40de08
DTSTAMP:20260422T141631Z
SUMMARY:Outdoor Hanukkah Observances at Temple Israel Portsmouth
DESCRIPTION:Jewish Federation of New Hampshire\nCommunity Calendar\nhttps:/
 /jewishnh.org/community-calendar/outdoor-hanukkah-observances-at-temple-is
 rael-portsmouth-1605191220\n\nAll are welcome to join us in the garden cou
 rtyard as we light the Hands of Hope menorah. Times will vary depending on
  the night\; please contact the temple office or see the website for addit
 ional details. 603-436-5301. www.templeisraelnh.org.
DTSTART;TZID=America/New_York:20201210T170000
DTEND;TZID=America/New_York:20201210T180000
END:VEVENT
END:VCALENDAR
