BEGIN:VCALENDAR
PRODID:-//eluceo/ical//2.0/EN
VERSION:2.0
CALSCALE:GREGORIAN
BEGIN:VEVENT
UID:b45ad0a6f04c41eaa40680fe3e6b8670
DTSTAMP:20260422T213325Z
SUMMARY:Parenting Through Jewish Lens
DESCRIPTION:Jewish Federation of New Hampshire\nCommunity Calendar\nhttps:/
 /jewishnh.org/community-calendar/parenting-through-jewish-lens-1674768808\
 n\nA four-part Zoom session on the following Sundays\,  March 19\, April 1
 6\,  May 21 and June 11\n\nThere is a $72 cost per person\, register here:
 \nhttps://tbanashua.shulcloud.com/event/PTJL-SP-23
DTSTART;TZID=America/New_York:20230319T200000
DTEND;TZID=America/New_York:20230319T213000
END:VEVENT
END:VCALENDAR
