BEGIN:VCALENDAR
PRODID:-//eluceo/ical//2.0/EN
VERSION:2.0
CALSCALE:GREGORIAN
BEGIN:VEVENT
UID:e9f8ea50a127478c6c852ddcf589a927
DTSTAMP:20260422T095010Z
SUMMARY:Parents Night Out  - Paint Night with PJ Library and Shlicha Avia S
 agron!
DESCRIPTION:Jewish Federation of New Hampshire\nCommunity Calendar\nhttps:/
 /jewishnh.org/community-calendar/parents-night-out-paint-night-with-pj-lib
 rary-and-shlicha-avia-sagron\n\nSeniors Forever Young and teens have had t
 heir chance to paint with Avia Sagron NH Shlicha and now its time for pare
 nts to have some fun!\nParents are invited to join PJ Library - New Hampsh
 ire and Avia Sagron NH Shlicha for an adult evening of painting fun! We'll
  have wine and appetizers and everyone will take home their very own piece
  of art! This is sure to be a night full of laughs and you don't want to m
 iss it.\n\n$10/person. Please call the JFNH at 603-627-7679 office to rese
 rve your sp...
DTSTART;TZID=America/New_York:20200215T183000
DTEND;TZID=America/New_York:20200215T203000
END:VEVENT
END:VCALENDAR
