BEGIN:VCALENDAR
PRODID:-//eluceo/ical//2.0/EN
VERSION:2.0
CALSCALE:GREGORIAN
BEGIN:VEVENT
UID:e31f39fccfcbabf6e146a5c83f5daf3d
DTSTAMP:20260422T053146Z
SUMMARY:Paris Song Sociable Saturday Night - NH Jewish Film Festival
DESCRIPTION:Jewish Federation of New Hampshire\nCommunity Calendar\nhttps:/
 /jewishnh.org/community-calendar/paris-song-sociable-saturday-night---nh-j
 ewish-film-festival-1581459172\n\nParis Song\nNew Hampshire Premiere\n\nSo
 ciable Saturday Night Event! Dessert and Coffee Reception\nSaturday\, Marc
 h 28\, 2020\, 8:00 PM\n\nRed River Theatres\, Concord\, NH\n\nAdmission: $
 15.00 (includes dessert and coffee reception after the film)\n\nDirector: 
 Jeff Vespa\nHistorical Drama\, 2018\, Kazakhstan\, Latvia\, USA\n90 minute
 s\nEnglish\, Arabic\, French\, Hebrew\n\nThe true story of small-town sing
 er Amre Kashaubayevs journey from Soviet-ruled Kazakhstan to Paris to comp
 ete in an international s...
DTSTART;TZID=America/New_York:20200328T200000
DTEND;TZID=America/New_York:20200328T220000
END:VEVENT
END:VCALENDAR
