BEGIN:VCALENDAR
PRODID:-//eluceo/ical//2.0/EN
VERSION:2.0
CALSCALE:GREGORIAN
BEGIN:VEVENT
UID:2b2dd52dabd6a26d950d5243bac687fe
DTSTAMP:20260422T234429Z
SUMMARY:Passover
DESCRIPTION:Jewish Federation of New Hampshire\nCommunity Calendar\nhttps:/
 /jewishnh.org/community-calendar/passover\n\nPassover\, also called Pesach
 \, is a major Jewish holiday that celebrates the exodus of the Israelites 
 from slavery in Egypt.
DTSTART;TZID=America/New_York:20220415T000000
DTEND;TZID=America/New_York:20220423T235959
END:VEVENT
END:VCALENDAR
