BEGIN:VCALENDAR
PRODID:-//eluceo/ical//2.0/EN
VERSION:2.0
CALSCALE:GREGORIAN
BEGIN:VEVENT
UID:4bc7a52f4f6d5db34f284d91bc7cf41e
DTSTAMP:20260423T163053Z
SUMMARY:Passover
DESCRIPTION:Jewish Federation of New Hampshire\nCommunity Calendar\nhttps:/
 /jewishnh.org/community-calendar/passover-2018\n\n.
DTSTART;TZID=America/New_York:20180406T000000
DTEND;TZID=America/New_York:20180406T000000
END:VEVENT
END:VCALENDAR
