BEGIN:VCALENDAR
PRODID:-//eluceo/ical//2.0/EN
VERSION:2.0
CALSCALE:GREGORIAN
BEGIN:VEVENT
UID:ce4b022d62b984b6f885fa6f2c6fab8c
DTSTAMP:20260422T045948Z
SUMMARY:Passover Baby Playgroup at JFNH
DESCRIPTION:Jewish Federation of New Hampshire\nCommunity Calendar\nhttps:/
 /jewishnh.org/community-calendar/passover-baby-playgroup-at-jfnh\n\nJoin u
 s on Tuesday\, April 11th at 10:00am for a special Passover-themed baby pl
 aygroup! We'll play a game of "find the afikomen"\, enjoy a Passover sens
 ory bin\, stuff your own seder pillows and more!\n\n\nMeet other families 
 with young children and grow your community!\n\nOpen to families with chil
 dren 0-5.  Snacks provided.\n\nJFNH Office\, 273 South River Road\, Unit
  #5\, Bedford\, NH \n\nContact Dinah at dinah.berch@jewishnh.org or 603
 -627-7679 with questions
DTSTART;TZID=America/New_York:20230411T100000
DTEND;TZID=America/New_York:20230411T110000
END:VEVENT
END:VCALENDAR
