BEGIN:VCALENDAR
PRODID:-//eluceo/ical//2.0/EN
VERSION:2.0
CALSCALE:GREGORIAN
BEGIN:VEVENT
UID:1f4cf4e439cab0df5a5b66f6e8e78e83
DTSTAMP:20260424T170754Z
SUMMARY:Passover Bake-along with Jennifer Stempel
DESCRIPTION:Jewish Federation of New Hampshire\nCommunity Calendar\nhttps:/
 /jewishnh.org/community-calendar/passover-bake-along-with-jennifer-stempel
 \n\nJoin Jennifer Stempel for a special Passover-themed dessert bake-along
 !\n\nA Los Angeles native\, Jennifer is a St. Louis-based storyteller\, wh
 ose work has been featured by Woman's Day\, Rachael Ray Everyday\, POPSUGA
 R\, NBC Latino\, PJ Library\, The Nosher\, MyJewishLearning.com\, Be'chol 
 Lashon\, Jewish Daily Forward\, and Relativity Media's COIN.\n\nRecipe wil
 l be shared soon.\n\nDon't miss this awesome (and tasty) event! Price: $18
 .00/zoom screen. 
DTSTART;TZID=America/New_York:20220329T190000
DTEND;TZID=America/New_York:20220329T203000
END:VEVENT
END:VCALENDAR
