BEGIN:VCALENDAR
PRODID:-//eluceo/ical//2.0/EN
VERSION:2.0
CALSCALE:GREGORIAN
BEGIN:VEVENT
UID:6baf25c209a4980ad570e32d6d6bb99a
DTSTAMP:20260420T114159Z
SUMMARY:Passover Family Fun
DESCRIPTION:Jewish Federation of New Hampshire\nCommunity Calendar\nhttps:/
 /jewishnh.org/community-calendar/passover-family-fun-1772727341\n\nFamilie
 s with children age 3 and older have lunch Matzah-Pizza\, story time\, cra
 ft and games!
DTSTART;TZID=America/New_York:20260329T123000
DTEND;TZID=America/New_York:20260329T140000
END:VEVENT
END:VCALENDAR
