BEGIN:VCALENDAR
PRODID:-//eluceo/ical//2.0/EN
VERSION:2.0
CALSCALE:GREGORIAN
BEGIN:VEVENT
UID:c440ff5f95a9a2fb9ba0336b0ddf7a5a
DTSTAMP:20260423T202531Z
SUMMARY:Passover Holiday Service (with Yizkor)
DESCRIPTION:Jewish Federation of New Hampshire\nCommunity Calendar\nhttps:/
 /jewishnh.org/community-calendar/passover-holiday-service-with-yizkor\n\nR
 eservations are not required. More information 622-6171 or office@templeis
 raelmht.org\n\n 
DTSTART;TZID=America/New_York:20180407T093000
DTEND;TZID=America/New_York:20180407T103000
END:VEVENT
END:VCALENDAR
