BEGIN:VCALENDAR
PRODID:-//eluceo/ical//2.0/EN
VERSION:2.0
CALSCALE:GREGORIAN
BEGIN:VEVENT
UID:6ac8fdde9368584a6c0ec33c708b003a
DTSTAMP:20260422T122715Z
SUMMARY:Passover Second Night Seder with Etz Hayim
DESCRIPTION:Jewish Federation of New Hampshire\nCommunity Calendar\nhttps:/
 /jewishnh.org/community-calendar/passover-second-night-seder-with-etz-hayi
 m-1612538363\n\nVirtual Passover Community Seder on Sunday evening at 6PM.
  Participants are encouraged to use their own Haggadah. Various participan
 ts may be asked to read portions from their own Haggadah\, providing for a
 n interesting diversity. There will be word search games and Passover colo
 ring opportunities for children. We will break for the Passover meal and r
 eturn for the afikomen and conclusion of the seder. Contact office@etzhayi
 m.org for the link or if you are in need of a Haggadah.
DTSTART;TZID=America/New_York:20210328T180000
DTEND;TZID=America/New_York:20210328T200000
END:VEVENT
END:VCALENDAR
