BEGIN:VCALENDAR
PRODID:-//eluceo/ical//2.0/EN
VERSION:2.0
CALSCALE:GREGORIAN
BEGIN:VEVENT
UID:1d097142ea1b240bab41e0d79c6d9a14
DTSTAMP:20260423T220325Z
SUMMARY:Temple Israel Passover Service with Yizkor
DESCRIPTION:Jewish Federation of New Hampshire\nCommunity Calendar\nhttps:/
 /jewishnh.org/community-calendar/passover-service-with-yizkor-1646937474\n
 \nPlease join Temple Israel in person or online\, as Rabba Kaya Stern-Kauf
 man leads a Passover service with Yizkor.
DTSTART;TZID=America/New_York:20220422T093000
DTEND;TZID=America/New_York:20220422T103000
END:VEVENT
END:VCALENDAR
