BEGIN:VCALENDAR
PRODID:-//eluceo/ical//2.0/EN
VERSION:2.0
CALSCALE:GREGORIAN
BEGIN:VEVENT
UID:25475dc604b39d8e3f71c3dc46e60ede
DTSTAMP:20260424T083351Z
SUMMARY:River Ride Passover Story Walk
DESCRIPTION:Jewish Federation of New Hampshire\nCommunity Calendar\nhttps:/
 /jewishnh.org/community-calendar/passover-story-walk\n\nChabad of NH\, PJ 
 Library\, Temple Beth Abraham and Temple Israel Manchester invite you to b
 undle up and enjoy the fresh air as you follow the Passover Story through 
 the park stopping to complete activities along the way!\n\n \n\nSpace is 
 limited in order to adhere to social distancing and masks are required for
  everyone ages 3+.\n\n \n\nFor security purposes the park location will b
 e given with your registration.
DTSTART;TZID=America/New_York:20210314T140000
DTEND;TZID=America/New_York:20210314T160000
END:VEVENT
END:VCALENDAR
