BEGIN:VCALENDAR
PRODID:-//eluceo/ical//2.0/EN
VERSION:2.0
CALSCALE:GREGORIAN
BEGIN:VEVENT
UID:f0650467237945a69f27bf88dbe8d112
DTSTAMP:20260425T181918Z
SUMMARY:Meet the Matzah: a Passover Story Walk & Community Event
DESCRIPTION:Jewish Federation of New Hampshire\nCommunity Calendar\nhttps:/
 /jewishnh.org/community-calendar/passover-story-walk-2023\n\nNew Hampshire
  synagogues and the Jewish Federation of New Hampshire invite you to bund
 le up and enjoy the fresh air as you follow Alfie Koman's story of Passove
 r on a story walk! \n\n \n\nThen join us at the end of the trail for fun
  activities:\n\n*Build your own pyramid or amusement park ride using packi
 ng peanuts\n\n*Create a self portrait Chametz "Foodle Doodle" and add it t
 o our Class Photo.\n\n*Find your inner "Mighty Moses" at our Superhero tab
 le.\n\n*Add your own worst plagues to ou...
DTSTART;TZID=America/New_York:20230402T140000
DTEND;TZID=America/New_York:20230402T160000
END:VEVENT
END:VCALENDAR
