BEGIN:VCALENDAR
PRODID:-//eluceo/ical//2.0/EN
VERSION:2.0
CALSCALE:GREGORIAN
BEGIN:VEVENT
UID:b7580d265602fd75cb875506cd865a2e
DTSTAMP:20260422T223610Z
SUMMARY:Pens are Stronger than Swords First Night of Chanukah
DESCRIPTION:Jewish Federation of New Hampshire\nCommunity Calendar\nhttps:/
 /jewishnh.org/community-calendar/pens-are-stronger-than-swords-first-night
 -of-chanukah\n\nWe make miracles through our activism!  Get to know other
  Jewish teens concerned about climate change with some Chanukah taboo ( th
 e game!) and candle lighting.  In the second half of the hour\, we will 
 learn the basics of writing a strong letter to your local selectboard or l
 egislator and get started on making our voices heard. \n\nBring your meno
 rah and candles and a pen and paper. \n\nUse this link to join this Sunda
 y at 6 pm https://meet.google.com/nfq-ayzw-rtr\nPlease RSVP so we kno...
DTSTART;TZID=America/New_York:20221218T180000
DTEND;TZID=America/New_York:20221218T190000
END:VEVENT
END:VCALENDAR
