BEGIN:VCALENDAR
PRODID:-//eluceo/ical//2.0/EN
VERSION:2.0
CALSCALE:GREGORIAN
BEGIN:VEVENT
UID:c8f5984a1b919b4501c98451cffdab60
DTSTAMP:20260422T123053Z
SUMMARY:Pens are Stronger than Swords MLK Day
DESCRIPTION:Jewish Federation of New Hampshire\nCommunity Calendar\nhttps:/
 /jewishnh.org/community-calendar/pens-are-stronger-than-swords-mlk-day\n\n
 Pens are Stronger than Swords: A youth led Jewish climate action group.\nM
 eetings are from 6 to 7 on every third Sunday of the month.\n\nSunday 1/15
  MLK Day: To honor the amazing speech writing of Martin Luther King Jr. We
  will practice the basics of effective public speaking. \n\nUse this link
  to join this Sunday at 6 pm https://meet.google.com/nfq-ayzw-rtr\n\nPlea
 se RSVP so we know to wait for you or to get more information shirahertzb
 erg18@gmail.com \n\nIf you can't access the call on ...
DTSTART;TZID=America/New_York:20230115T180000
DTEND;TZID=America/New_York:20230115T190000
END:VEVENT
END:VCALENDAR
