BEGIN:VCALENDAR
PRODID:-//eluceo/ical//2.0/EN
VERSION:2.0
CALSCALE:GREGORIAN
BEGIN:VEVENT
UID:3ea90b2328809f338c6e3ec6d391e2b7
DTSTAMP:20260420T080117Z
SUMMARY:Pesach Seder - Day 2
DESCRIPTION:Jewish Federation of New Hampshire\nCommunity Calendar\nhttps:/
 /jewishnh.org/community-calendar/pesach-seder---day-2-1772727876\n\nPlease
  Note: Kosher for Passover catering by Mezzanine Catering Vegetarian and k
 ids’ meals available with pre-order Bring a bottle of your favorite kosh
 er-for-Passover wine to enjoy with the meal!Prices Free for kids age 5 and
  under $10 for ages 5-12 $15 for students ages 13+  $40 for members $50 fo
 r non members
DTSTART;TZID=America/New_York:20260402T180000
DTEND;TZID=America/New_York:20260402T200000
END:VEVENT
END:VCALENDAR
