BEGIN:VCALENDAR
PRODID:-//eluceo/ical//2.0/EN
VERSION:2.0
CALSCALE:GREGORIAN
BEGIN:VEVENT
UID:f065b964ae0d41924c37cc46a6fb6e94
DTSTAMP:20260424T182320Z
SUMMARY:Temple Beth Jacob Picnic and Havdalah
DESCRIPTION:Jewish Federation of New Hampshire\nCommunity Calendar\nhttps:/
 /jewishnh.org/community-calendar/picnic-and-havdalah-1691413180\n\nBring y
 our own picnic dinner\; we'll supply games. Then join together at sundown 
 to celebrate Havdalah. (Rain date is August 19.)
DTSTART;TZID=America/New_York:20230812T170000
DTEND;TZID=America/New_York:20230812T200000
END:VEVENT
END:VCALENDAR
