BEGIN:VCALENDAR
PRODID:-//eluceo/ical//2.0/EN
VERSION:2.0
CALSCALE:GREGORIAN
BEGIN:VEVENT
UID:fd8799a2a9e79da7fd45d0edf67b1d81
DTSTAMP:20260422T150713Z
SUMMARY:Pinkerton Players Presents -- Antigone in Munich
DESCRIPTION:Jewish Federation of New Hampshire\nCommunity Calendar\nhttps:/
 /jewishnh.org/community-calendar/pinkerton-players-presents----antigone-in
 -munich-1695165595\n\nAntigone in Munich tells the true story of Sophie Sc
 holl and the White Rose Society\, a German Resistance group during WWII. T
 he play follows Sophie in the years before and during WWII and her courage
 ous resistance to the Nazi regime. Sophie finds inspiration from the story
  of Antigone\, and the character's bravery. In secret\, Sophie and her bro
 ther go from witnesses to activists. The story is inspired by Sophocles' G
 reek tragedy Antigone which asks "What do you do when the laws of man cont
 radi...
DTSTART;TZID=America/New_York:20231028T190000
DTEND;TZID=America/New_York:20231028T210000
END:VEVENT
END:VCALENDAR
