BEGIN:VCALENDAR
PRODID:-//eluceo/ical//2.0/EN
VERSION:2.0
CALSCALE:GREGORIAN
BEGIN:VEVENT
UID:9091e0b6a432919e23f6783985946694
DTSTAMP:20260423T144112Z
SUMMARY:Temple Beth Abraham Pizza in the Hut
DESCRIPTION:Jewish Federation of New Hampshire\nCommunity Calendar\nhttps:/
 /jewishnh.org/community-calendar/pizza-in-the-hut-1599183571\n\nCelebrate 
 sukkot with a fall craft\, Sukkah decoration making\, and pizza in the suk
 kah followed by a “Shabbat Alive” service (6:15 pm) at Temple Beth Abr
 aham in Nashua. To register: www.tbanashua.org/event/pizza-in-the-hut or c
 ontact Sarit@tbanashua.org
DTSTART;TZID=America/New_York:20201002T170000
DTEND;TZID=America/New_York:20201002T190000
END:VEVENT
END:VCALENDAR
