BEGIN:VCALENDAR
PRODID:-//eluceo/ical//2.0/EN
VERSION:2.0
CALSCALE:GREGORIAN
BEGIN:VEVENT
UID:9321d821fdac960ee6c410b37fd341eb
DTSTAMP:20260423T090614Z
SUMMARY:CANCELLED: Pizza in the Hut & Havdalah Under the Stars
DESCRIPTION:Jewish Federation of New Hampshire\nCommunity Calendar\nhttps:/
 /jewishnh.org/community-calendar/pizza-in-the-hut-havdalah-under-the-stars
 \n\nCANCELLED: Unfortunately\, this program has been cancelled due to low 
 enrollment.\n\n \n\nTEENS: Join us in the sukkah for pizza\, havdallah an
 d s'mores! Telescopes will be available for stargazing.\n\n \n\n\nPresent
 ed by the Jewish Federation of New Hampshire in partnership with CONTY & M
 ANTY.  \nAll Teens Invited.\n\n \n\n\nSaturday\, October 8th\, 6-8pm \
 n\nPrivate Home\, Goffstown\, NH\n*location shared upon registration\n\n\n
 Free program | Registration required.\n\nContact Ra'anan de Haa...
DTSTART;TZID=America/New_York:20221008T180000
DTEND;TZID=America/New_York:20221008T200000
END:VEVENT
END:VCALENDAR
