BEGIN:VCALENDAR
PRODID:-//eluceo/ical//2.0/EN
VERSION:2.0
CALSCALE:GREGORIAN
BEGIN:VEVENT
UID:ab3340068367b44444676c317a535d0f
DTSTAMP:20260422T153655Z
SUMMARY:Pajama Havdalah
DESCRIPTION:Jewish Federation of New Hampshire\nCommunity Calendar\nhttps:/
 /jewishnh.org/community-calendar/pj-havdalah-1548710030\n\nJoin us for sna
 cks\, songs and fun at 4:30PM at Congregation Betenu\, 5 Northern Boulevar
 d\, Amherst\, NH. For more information call 603-886-1632 or visit Betenu.o
 rg.\n\n*Note: this is not a Federation PJ Library event
DTSTART;TZID=America/New_York:20190209T163000
DTEND;TZID=America/New_York:20190209T183000
END:VEVENT
END:VCALENDAR
