BEGIN:VCALENDAR
PRODID:-//eluceo/ical//2.0/EN
VERSION:2.0
CALSCALE:GREGORIAN
BEGIN:VEVENT
UID:a04b3fe4257154516023b0e5df2a2173
DTSTAMP:20260423T025610Z
SUMMARY:Pajama Havdallah
DESCRIPTION:Jewish Federation of New Hampshire\nCommunity Calendar\nhttps:/
 /jewishnh.org/community-calendar/pj-havdallah-1561639613\n\nPJ Havdallah w
 ith movie and pizza
DTSTART;TZID=America/New_York:20190629T163000
DTEND;TZID=America/New_York:20190629T190000
END:VEVENT
END:VCALENDAR
