BEGIN:VCALENDAR
PRODID:-//eluceo/ical//2.0/EN
VERSION:2.0
CALSCALE:GREGORIAN
BEGIN:VEVENT
UID:88d9b2f78bdfe98507d6bf1b6ccf0ae5
DTSTAMP:20260423T005851Z
SUMMARY:PJ Library Celebrates Israel
DESCRIPTION:Jewish Federation of New Hampshire\nCommunity Calendar\nhttps:/
 /jewishnh.org/community-calendar/pj-library-celebrates-israel\n\nJoin us a
 t the Jewish Federation of New Hampshire for a special PJ Library celebrat
 ion of Israel. We'll watch episodes of "Shalom Sesame" and design cards an
 d pictures to send to Israeli children. \n\nFree program | Registration r
 equired | Snacks provided\n\nIn collaboration with the New Hampshire Jewis
 h Film Festival
DTSTART;TZID=America/New_York:20231119T140000
DTEND;TZID=America/New_York:20231119T160000
END:VEVENT
END:VCALENDAR
