BEGIN:VCALENDAR
PRODID:-//eluceo/ical//2.0/EN
VERSION:2.0
CALSCALE:GREGORIAN
BEGIN:VEVENT
UID:59df7037c9b3a3fba6651a146ee8f7d3
DTSTAMP:20260422T062059Z
SUMMARY:PJ Library Family Virtual Trivia Night - Shabbat Edition
DESCRIPTION:Jewish Federation of New Hampshire\nCommunity Calendar\nhttps:/
 /jewishnh.org/community-calendar/pj-library-family-virtual-trivia-night-sh
 abbat-edition\n\nGather the whole family and get Shabbat started right wit
 h Family Virtual Trivia Night on Zoom! We'll start with blessings over Cha
 llah and grape juice and then enjoy Shabbat themed trivia.\n\nFeel free to
  eat dinner while you play!\n\nQuestions are geared towards children ages 
 3-8 with their families but all ages are welcome to play!\n\nRegister in a
 dvance https://us02web.zoom.us/meeting/register/tZUsc-mgrTojH9V2UNMemWx2tU
 iMvzdtDQaj\nYou will receive a confirmation email with the Zoom link a...
DTSTART;TZID=America/New_York:20200724T180000
DTEND;TZID=America/New_York:20200724T190000
END:VEVENT
END:VCALENDAR
