BEGIN:VCALENDAR
PRODID:-//eluceo/ical//2.0/EN
VERSION:2.0
CALSCALE:GREGORIAN
BEGIN:VEVENT
UID:7c62ac716eeb7c1666e8c1752427370d
DTSTAMP:20260422T111036Z
SUMMARY:PJ Library Goes to the Movies
DESCRIPTION:Jewish Federation of New Hampshire\nCommunity Calendar\nhttps:/
 /jewishnh.org/community-calendar/pj-library-goes-to-the-movies\n\nJoin us 
 at the Jewish Federation of New Hampshire for a special "Film Festival" ju
 st for 0-8yos! We'll design our own box cars and then enjoy an episode of 
 "SHABOOM!". \n\nFree program | Registration required | Snacks provided\n\n
 In collaboration with the New Hampshire Jewish Film Festival
DTSTART;TZID=America/New_York:20230319T140000
DTEND;TZID=America/New_York:20230319T160000
END:VEVENT
END:VCALENDAR
