BEGIN:VCALENDAR
PRODID:-//eluceo/ical//2.0/EN
VERSION:2.0
CALSCALE:GREGORIAN
BEGIN:VEVENT
UID:89585d887126b9620fb3b40f4bd56acc
DTSTAMP:20260422T184504Z
SUMMARY:PJ Library Goes to the Movies 2024
DESCRIPTION:Jewish Federation of New Hampshire\nCommunity Calendar\nhttps:/
 /jewishnh.org/community-calendar/pj-library-goes-to-the-movies-2024\n\nPJ 
 Library Goes To The Movies: "Hotel Transylvania"\n\nJoin us at the Jewish 
 Federation of New Hampshire for a special "Film Festival" showing of “Ho
 tel Transylvania” - just for PJ Library kids! Plus - spooky monster craf
 ts and snacks!\n\nMovie intended for ages 5-8.\nSiblings and parents welco
 me.\nFree program | Registration required | Snacks provided.\n\nMore about
  "Hotel Transylvania":\n\nDracula's plans to host a monsters-only celebrat
 ion for his daughter Mavis's birthday are complica...
DTSTART;TZID=America/New_York:20240407T150000
DTEND;TZID=America/New_York:20240407T170000
END:VEVENT
END:VCALENDAR
