BEGIN:VCALENDAR
PRODID:-//eluceo/ical//2.0/EN
VERSION:2.0
CALSCALE:GREGORIAN
BEGIN:VEVENT
UID:be794280260fccb28788b6c4ce6a51f5
DTSTAMP:20260422T092611Z
SUMMARY:PJ Library Hamantaschen Delivery!
DESCRIPTION:Jewish Federation of New Hampshire\nCommunity Calendar\nhttps:/
 /jewishnh.org/community-calendar/pj-library-hamantaschen-delivery\n\nSign 
 up to receive everything you need to make your own hamantaschen at home!\n
 \nKit includes hamanstaschen dough\, fillings\, recipe and a craft!\n\nReg
 ister by February 15th\n \nKits are free but quantity is limited - don't 
 wait to register.  *One kit per family*\n\nPick up your kits on February 
 21st and 22nd or 23rd at the JFNH Bedford office (Temple Israel families w
 ill pick up there).\n\nKit delivery available to families who live in NH b
 ut more than 15 miles from our Bedford office.
DTSTART;TZID=America/New_York:20210221T103000
DTEND;TZID=America/New_York:20210221T150000
END:VEVENT
END:VCALENDAR
