BEGIN:VCALENDAR
PRODID:-//eluceo/ical//2.0/EN
VERSION:2.0
CALSCALE:GREGORIAN
BEGIN:VEVENT
UID:f27f26d75b5a0fa5b9b8ec6c758c543d
DTSTAMP:20260423T031252Z
SUMMARY:PJ Library Israeli Story Walk
DESCRIPTION:Jewish Federation of New Hampshire\nCommunity Calendar\nhttps:/
 /jewishnh.org/community-calendar/pj-library-israeli-story-walk\n\nGet outs
 ide and enjoy the fresh air as you follow Grover on his trip through Israe
 l stopping along the way for crafts\, activities and have a snack!\n\n \n
 \nThis program is FREE but space is limited in order to adhere to social d
 istancing and pre-registration is required to select your time slot. Face 
 masks are required for everyone ages 3+\n\n \n\nFun for children of all a
 ges!\n\n \n\nThis program is being held at a private residence in Goffsto
 wn\, NH and the address will be provided once...
DTSTART;TZID=America/New_York:20210418T140000
DTEND;TZID=America/New_York:20210418T160000
END:VEVENT
END:VCALENDAR
