BEGIN:VCALENDAR
PRODID:-//eluceo/ical//2.0/EN
VERSION:2.0
CALSCALE:GREGORIAN
BEGIN:VEVENT
UID:64324ed6e44680c19283c962508c7568
DTSTAMP:20260424T102722Z
SUMMARY:PJ Library Mitzvah Pizza & Stuffy Sleepover
DESCRIPTION:Jewish Federation of New Hampshire\nCommunity Calendar\nhttps:/
 /jewishnh.org/community-calendar/pj-library-mitzvah-pizza-stuffy-sleepover
 \n\nIt's a Mitzvah Pizza Party at the JFNH office!\n\nJoin us on Saturday\
 , November 5th at 6pm.\n\nEnjoy Havdallah followed by a pizza dinner and 
 a story. We need your help to create a "kindness wall" with notes and pic
 tures. Bring canned goods and Halloween candy to donate.\n\nMake sure you
 r favorite (or second favorite) stuffed animal friend comes with you! Deco
 rate a shoebox bed and say goodnight. Then it's time to turn over the JFNH
  office to the stuffies - and follow their fun on social m...
DTSTART;TZID=America/New_York:20221105T180000
DTEND;TZID=America/New_York:20221105T200000
END:VEVENT
END:VCALENDAR
