BEGIN:VCALENDAR
PRODID:-//eluceo/ical//2.0/EN
VERSION:2.0
CALSCALE:GREGORIAN
BEGIN:VEVENT
UID:e63b93a0ec9aad8bc8c2ef95869656b2
DTSTAMP:20260422T065145Z
SUMMARY:PJ Library November Tot Shabbat Hop
DESCRIPTION:Jewish Federation of New Hampshire\nCommunity Calendar\nhttps:/
 /jewishnh.org/community-calendar/pj-library-november-tot-shabbat-hop\n\nPJ
  Library's jBaby and Early Education Initiative invite families with child
 ren 0-5 (siblings welcome) to celebrate Shabbat morning together.\n\nBundl
 e up and enjoy Stories\, Singing\, and Blessings followed by a Kiddie Kidd
 ush\n\nSpace is limited and registration required.\n.......\n\nSaturday\, 
 November 12th ~ 10AM\nOutside of Temple Beth Jacob\, 67 Broadway\, Concord
 \, NH
DTSTART;TZID=America/New_York:20221112T100000
DTEND;TZID=America/New_York:20221112T110000
END:VEVENT
END:VCALENDAR
