BEGIN:VCALENDAR
PRODID:-//eluceo/ical//2.0/EN
VERSION:2.0
CALSCALE:GREGORIAN
BEGIN:VEVENT
UID:a7ead3ce467f2ad29d311dc8063cb84f
DTSTAMP:20260425T023614Z
SUMMARY:A is for Apple\, B is for Bubbe: An Intergenerational Rosh Hashanah
  Event
DESCRIPTION:Jewish Federation of New Hampshire\nCommunity Calendar\nhttps:/
 /jewishnh.org/community-calendar/pj-library-sfy-storytime-craft-and-apple-
 picking\n\nJoin PJ Library and Seniors Forever Young for an intergeneratio
 nal Rosh Hashanah event!  \n\nBring your Bubbes & Zaides\, Sabas & Saftas
 \, Memes & Pepes or other grownups for some fun at Carter Hill Orchard in 
 Concord. Join us for a story time\, High Holiday songs\, a craft project 
 and snack. Families are then encouraged to partner with seniors and go app
 le picking at the orchard!\n\nSunday\, September 11\, 2-4pm\n\n\n\nThis ev
 ent is geared towards 3-7 year olds and their grownups\, but older an...
DTSTART;TZID=America/New_York:20220911T140000
DTEND;TZID=America/New_York:20220911T160000
END:VEVENT
END:VCALENDAR
