BEGIN:VCALENDAR
PRODID:-//eluceo/ical//2.0/EN
VERSION:2.0
CALSCALE:GREGORIAN
BEGIN:VEVENT
UID:170b3cf0d6d92e9a39c585945435b720
DTSTAMP:20260423T032118Z
SUMMARY:PJ Library Shabbat at the Park with Temple Beth Abraham
DESCRIPTION:Jewish Federation of New Hampshire\nCommunity Calendar\nhttps:/
 /jewishnh.org/community-calendar/pj-library-shabbat-at-the-park-with-templ
 e-beth-abraham\n\nPJ Library is teaming up with Temple Beth Abraham for a 
 Shabbat evening in the park! Enjoy a kid-friendly\, interactive service wi
 th Rabbi Jon and outdoor fun and games. Bring a blanket\, picnic dinner fo
 r your family and a dessert to share with the group. \n\nWe'll meet by the
  gazebo (look for the PJ Library sign)!\n\nRSVP by August 7th\n\nContact p
 jlibrary@jewishnh.org with questions\n\n 
DTSTART;TZID=America/New_York:20190809T173000
DTEND;TZID=America/New_York:20190809T193000
END:VEVENT
END:VCALENDAR
