BEGIN:VCALENDAR
PRODID:-//eluceo/ical//2.0/EN
VERSION:2.0
CALSCALE:GREGORIAN
BEGIN:VEVENT
UID:72e560141ae835f93be91bee807f6387
DTSTAMP:20260422T101914Z
SUMMARY:PJ Library Tot Shabbat Hop
DESCRIPTION:Jewish Federation of New Hampshire\nCommunity Calendar\nhttps:/
 /jewishnh.org/community-calendar/pj-library-tot-shabbat\n\nPJ Library 's j
 Baby and Early Education Initiative invite families with children 0-5 (sib
 lings welcome) to celebrate Shabbat morning together.\n\nStories\, Singing
 \, and Blessings followed by a Kiddie Kiddush\n\nSpace is limited and regi
 stration required!\n.......\nSaturday\, June 26th ~ 9AM\nBackyard of Templ
 e Israel\, Manchester\n\nContact Allyson at allyson.guertin@jewishnh.org o
 r 603-627-7679 with questions
DTSTART;TZID=America/New_York:20210626T090000
DTEND;TZID=America/New_York:20210626T110000
END:VEVENT
END:VCALENDAR
