BEGIN:VCALENDAR
PRODID:-//eluceo/ical//2.0/EN
VERSION:2.0
CALSCALE:GREGORIAN
BEGIN:VEVENT
UID:3bea116e6c14c52484712870a3371990
DTSTAMP:20260424T005314Z
SUMMARY:PJ Library Tot Shabbat and Playgroup
DESCRIPTION:Jewish Federation of New Hampshire\nCommunity Calendar\nhttps:/
 /jewishnh.org/community-calendar/pj-library-tot-shabbat-and-playgroup\n\nT
 his Tot Shabbat and playgroup is geared for children 6 month - 3 years old
  and their caregivers.\n\nSpend a Friday morning in a Preschool classroom 
 set up just for us. Children will have the chance to bake their own mini c
 hallah\, and create a craft. Make new friends and spend time with old frie
 nds!\n\nWe'll join with the Preschool as they come together for their week
 ly Shabbat service and then end the morning with a challah snack.\n\nThis 
 is a FREE program and you do not need to be a PJ Libr...
DTSTART;TZID=America/New_York:20181109T000000
DTEND;TZID=America/New_York:20181109T235959
END:VEVENT
END:VCALENDAR
