BEGIN:VCALENDAR
PRODID:-//eluceo/ical//2.0/EN
VERSION:2.0
CALSCALE:GREGORIAN
BEGIN:VEVENT
UID:1193066484b3f025819767319fcfa19f
DTSTAMP:20260423T092656Z
SUMMARY:PJ Library Tot Shabbat Hop
DESCRIPTION:Jewish Federation of New Hampshire\nCommunity Calendar\nhttps:/
 /jewishnh.org/community-calendar/pj-library-tot-shabbat-hop\n\nPJ Library 
 's jBaby and Early Education Initiative invite families with children 0-5 
 (siblings welcome) to celebrate Shabbat morning together.\n\nStories\, Sin
 ging\, and Blessings followed by a Kiddie Kiddush\n\nSpace is limited and 
 registration required!\n.......\nSaturday\, May 14th ~ 10AM\nBackyard of T
 emple Israel\, Manchester\n\nContact Dinah at dinah.berch@jewishnh.org or 
 603-627-7679 with questions
DTSTART;TZID=America/New_York:20220514T100000
DTEND;TZID=America/New_York:20220514T103000
END:VEVENT
END:VCALENDAR
