BEGIN:VCALENDAR
PRODID:-//eluceo/ical//2.0/EN
VERSION:2.0
CALSCALE:GREGORIAN
BEGIN:VEVENT
UID:5163f897c590a7de7b1558b693bb4e93
DTSTAMP:20260422T131905Z
SUMMARY:PJ Library Tot Shabbat Hop
DESCRIPTION:Jewish Federation of New Hampshire\nCommunity Calendar\nhttps:/
 /jewishnh.org/community-calendar/pj-library-tot-shabbat-hop-Apr2023\n\nPJ 
 Library's jBaby and Early Education Initiative invite families with childr
 en 0-5 (siblings welcome) to celebrate Shabbat morning together.\n\nStorie
 s\, Singing\, and Blessings followed by a Kiddie Kiddush\n\nRegistration r
 equired.\n.......\n\nSaturday\, April 15th ~ 10AM\nTemple Adath Yeshurun\n
 \nContact Dinah at dinah.berch@jewishnh.org or 603-627-7679 with questio
 ns
DTSTART;TZID=America/New_York:20230415T100000
DTEND;TZID=America/New_York:20230415T110000
END:VEVENT
END:VCALENDAR
