BEGIN:VCALENDAR
PRODID:-//eluceo/ical//2.0/EN
VERSION:2.0
CALSCALE:GREGORIAN
BEGIN:VEVENT
UID:037f0876c38c4f88d4d1196d7c7fb918
DTSTAMP:20260422T173913Z
SUMMARY:PJ Library Tot Shabbat Hop
DESCRIPTION:Jewish Federation of New Hampshire\nCommunity Calendar\nhttps:/
 /jewishnh.org/community-calendar/pj-library-tot-shabbat-hop-Aug\n\nPJ Libr
 ary's jBaby and Early Education Initiative invite families with children 0
 -5 (siblings welcome) to celebrate Shabbat morning together.\n\nStories\, 
 Singing\, and Blessings followed by a Kiddie Kiddush\n\nSpace is limited a
 nd registration required.\n.......\n\nSaturday\, August 13th ~ 11AM\n\nBac
 kyard of the Roth Center for Jewish Life\, Upper Valley Jewish Community 
  -  5 Occom Ridge\, Hanover\n\nContact Dinah at dinah.berch@jewishnh.org 
 or 603-627-7679 with questions
DTSTART;TZID=America/New_York:20220813T110000
DTEND;TZID=America/New_York:20220813T114500
END:VEVENT
END:VCALENDAR
