BEGIN:VCALENDAR
PRODID:-//eluceo/ical//2.0/EN
VERSION:2.0
CALSCALE:GREGORIAN
BEGIN:VEVENT
UID:cac85594ad03e94de2da07d265933f00
DTSTAMP:20260423T044109Z
SUMMARY:PJ Library Tot Shabbat Hop
DESCRIPTION:Jewish Federation of New Hampshire\nCommunity Calendar\nhttps:/
 /jewishnh.org/community-calendar/pj-library-tot-shabbat-hop-Dec2022\n\nPJ 
 Library's jBaby and Early Education Initiative invite families with childr
 en 0-5 (siblings welcome) to celebrate Shabbat morning together.\n\nBundle
  up and enjoy Stories\, Singing\, and Blessings followed by a Kiddie Kiddu
 sh\n\nSpace is limited and registration required.\n.......\n\nSaturday\, D
 ecember 17th ~ 10AM\nOutside of Temple Adath Yeshurun\, Manchester
DTSTART;TZID=America/New_York:20221217T100000
DTEND;TZID=America/New_York:20221217T110000
END:VEVENT
END:VCALENDAR
