BEGIN:VCALENDAR
PRODID:-//eluceo/ical//2.0/EN
VERSION:2.0
CALSCALE:GREGORIAN
BEGIN:VEVENT
UID:c56c84077fe3564c83495cbed1ef276b
DTSTAMP:20260423T144138Z
SUMMARY:PJ Library Tot Shabbat Hop
DESCRIPTION:Jewish Federation of New Hampshire\nCommunity Calendar\nhttps:/
 /jewishnh.org/community-calendar/pj-library-tot-shabbat-hop-Dec2023\n\nPJ 
 Library's jBaby and Early Education Initiative invite families with childr
 en 0-5 (siblings welcome) to celebrate Shabbat morning together.\n\nStorie
 s\, Singing\, and Blessings followed by a Kiddie Kiddush\n\nRegistration r
 equested.\n.......\n\nSaturday\, December 9th ~ 10AM\nTemple Adath Yeshur
 un\n\nContact Dinah at dinah.berch@jewishnh.org or 603-627-7679 with que
 stions.
DTSTART;TZID=America/New_York:20231209T100000
DTEND;TZID=America/New_York:20231209T110000
END:VEVENT
END:VCALENDAR
