BEGIN:VCALENDAR
PRODID:-//eluceo/ical//2.0/EN
VERSION:2.0
CALSCALE:GREGORIAN
BEGIN:VEVENT
UID:4c34df9184ceaafe49c385d6d2502b02
DTSTAMP:20260424T012357Z
SUMMARY:PJ Library Tot Shabbat Hop
DESCRIPTION:Jewish Federation of New Hampshire\nCommunity Calendar\nhttps:/
 /jewishnh.org/community-calendar/pj-library-tot-shabbat-hop-July\n\nPJ Lib
 rary's jBaby and Early Education Initiative invite families with children 
 0-5 (siblings welcome) to celebrate Shabbat morning together.\n\nStories\,
  Singing\, and Blessings followed by a Kiddie Kiddush\n\nSpace is limited 
 and registration required!\n.......\nSaturday\, July 16th ~ 10AM\nOutside 
 of Temple Beth Abraham\, Nashua\n\nContact Dinah at dinah.berch@jewishnh.o
 rg or 603-627-7679 with questions
DTSTART;TZID=America/New_York:20220716T100000
DTEND;TZID=America/New_York:20220716T104500
END:VEVENT
END:VCALENDAR
