BEGIN:VCALENDAR
PRODID:-//eluceo/ical//2.0/EN
VERSION:2.0
CALSCALE:GREGORIAN
BEGIN:VEVENT
UID:3b9dbffd810badb161fa66a11630c96a
DTSTAMP:20260423T032315Z
SUMMARY:PJ Library Tot Shabbat Hop
DESCRIPTION:Jewish Federation of New Hampshire\nCommunity Calendar\nhttps:/
 /jewishnh.org/community-calendar/pj-library-tot-shabbat-hop-July2023\n\nPJ
  Library's jBaby and Early Education Initiative invite families with child
 ren 0-5 (siblings welcome) to celebrate Shabbat morning together.\n\nStori
 es\, Singing\, and Blessings followed by a Kiddie Kiddush\n\nRegistration 
 required.\n.......\n\nSaturday\, July 22nd ~ 10AM\nTemple Israel Portsmou
 th\n\nContact Dinah at dinah.berch@jewishnh.org or 603-627-7679 with que
 stions
DTSTART;TZID=America/New_York:20230722T100000
DTEND;TZID=America/New_York:20230722T110000
END:VEVENT
END:VCALENDAR
